BEGIN:VCALENDAR
VERSION:2.0
PRODID:-//Olivier FAURAX/NONSGML Faurax Calendar System V1.0//EN
X-WR-CALNAME:Liste Salsa d'Olivier (21)
BEGIN:VTIMEZONE
TZID:Europe/Paris
X-LIC-LOCATION:Europe/Paris
BEGIN:DAYLIGHT
TZOFFSETFROM:+0100
TZOFFSETTO:+0200
TZNAME:CEST
DTSTART:19700329T020000
RRULE:FREQ=YEARLY;INTERVAL=1;BYDAY=-1SU;BYMONTH=3
END:DAYLIGHT
BEGIN:STANDARD
TZOFFSETFROM:+0200
TZOFFSETTO:+0100
TZNAME:CET
DTSTART:19701025T030000
RRULE:FREQ=YEARLY;INTERVAL=1;BYDAY=-1SU;BYMONTH=10
END:STANDARD
END:VTIMEZONE
BEGIN:VEVENT
DTSTAMP:20160113T142256Z
UID:evt877@salsa.faurax.fr
DTSTART;VALUE=DATE:20170101
DTEND;TZID=Europe/Paris:20170101T235959
SUMMARY:Soirée Salsa Cubeando
LOCATION:15 Rue General Fauconnet 21000 Dijon
URL:http://salsa.faurax.fr/index.php/evt/20170101-877
DESCRIPTION:http://salsa.faurax.fr/index.php/evt/20170101-877
END:VEVENT
BEGIN:VEVENT
DTSTAMP:20200121T172426Z
UID:evt24787@salsa.faurax.fr
DTSTART;TZID=Europe/Paris:20170101T190000
DTEND;TZID=Europe/Paris:20170101T235959
SUMMARY:bad jeudi (soirée bachata)
LOCATION:salsapelpa \, 1 Rue Marceau 21000 Dijon
URL:http://salsa.faurax.fr/index.php/evt/20170101-24787
DESCRIPTION:http://salsa.faurax.fr/index.php/evt/20170101-24787
END:VEVENT
BEGIN:VEVENT
DTSTAMP:20170801T164637Z
UID:evt13275@salsa.faurax.fr
DTSTART;TZID=Europe/Paris:20170101T200000
DTEND;TZID=Europe/Paris:20170101T235959
SUMMARY:Soirée Salsa Bachata Kizomba & Initiations Gratuite
LOCATION:11 Route de Seurre 21200 Beaune
URL:http://salsa.faurax.fr/index.php/evt/20170101-13275
DESCRIPTION:http://salsa.faurax.fr/index.php/evt/20170101-13275
END:VEVENT
BEGIN:VEVENT
DTSTAMP:20170706T113113Z
UID:evt12086@salsa.faurax.fr
DTSTART;TZID=Europe/Paris:20170101T203000
DTEND;TZID=Europe/Paris:20170101T235959
SUMMARY:Cours et soirée 100% Kizomba
LOCATION:15 Rue General Fauconnet 21000 Dijon
URL:http://salsa.faurax.fr/index.php/evt/20170101-12086
DESCRIPTION:http://salsa.faurax.fr/index.php/evt/20170101-12086
END:VEVENT
BEGIN:VEVENT
DTSTAMP:20150226T184030Z
UID:evt4492@salsa.faurax.fr
DTSTART;TZID=Europe/Paris:20170101T210000
DTEND;TZID=Europe/Paris:20170101T235959
SUMMARY:Soirée salsa bachata kizomba
LOCATION:4 Route de Beaune 21820 Labergement-lès-Seurre
URL:http://salsa.faurax.fr/index.php/evt/20170101-4492
DESCRIPTION:http://salsa.faurax.fr/index.php/evt/20170101-4492
END:VEVENT
BEGIN:VEVENT
DTSTAMP:20150817T101931Z
UID:evt4097@salsa.faurax.fr
DTSTART;TZID=Europe/Paris:20170101T220000
DTEND;TZID=Europe/Paris:20170101T235959
SUMMARY:Soirée Salsa Bachata Kizomba
LOCATION:61 Rue d'Auxonne 21000 Dijon
URL:http://salsa.faurax.fr/index.php/evt/20170101-4097
DESCRIPTION:http://salsa.faurax.fr/index.php/evt/20170101-4097
END:VEVENT
END:VCALENDAR