BEGIN:VCALENDAR
VERSION:2.0
PRODID:-//Olivier FAURAX/NONSGML Faurax Calendar System V1.0//EN
X-WR-CALNAME:Liste Salsa d'Olivier (74)
BEGIN:VTIMEZONE
TZID:Europe/Paris
X-LIC-LOCATION:Europe/Paris
BEGIN:DAYLIGHT
TZOFFSETFROM:+0100
TZOFFSETTO:+0200
TZNAME:CEST
DTSTART:19700329T020000
RRULE:FREQ=YEARLY;INTERVAL=1;BYDAY=-1SU;BYMONTH=3
END:DAYLIGHT
BEGIN:STANDARD
TZOFFSETFROM:+0200
TZOFFSETTO:+0100
TZNAME:CET
DTSTART:19701025T030000
RRULE:FREQ=YEARLY;INTERVAL=1;BYDAY=-1SU;BYMONTH=10
END:STANDARD
END:VTIMEZONE
BEGIN:VEVENT
DTSTAMP:20251013T130439Z
UID:evt42359@salsa.faurax.fr
DTSTART;TZID=Europe/Paris:20170101T210000
DTEND;TZID=Europe/Paris:20170101T235959
SUMMARY:El patio
LOCATION:35 Route de Piron 74320 Sevrier 
URL:http://salsa.faurax.fr/index.php/evt/20170101-42359
DESCRIPTION:http://salsa.faurax.fr/index.php/evt/20170101-42359
END:VEVENT
BEGIN:VEVENT
DTSTAMP:20160208T104430Z
UID:evt8719@salsa.faurax.fr
DTSTART;TZID=Europe/Paris:20170101T220000
DTEND;TZID=Europe/Paris:20170101T235959
SUMMARY:Jeudy's Party
LOCATION:50 Impasse de la Futaie 74960 Cran-Gevrier
URL:http://salsa.faurax.fr/index.php/evt/20170101-8719
DESCRIPTION:http://salsa.faurax.fr/index.php/evt/20170101-8719
END:VEVENT
BEGIN:VEVENT
DTSTAMP:20251013T130049Z
UID:evt42358@salsa.faurax.fr
DTSTART;TZID=Europe/Paris:20260426T193000
DTEND;TZID=Europe/Paris:20260426T235959
SUMMARY:Havana city
LOCATION:50 Chemin des Grands Prés 74210 Doussard France
URL:http://salsa.faurax.fr/index.php/evt/20260426-42358
DESCRIPTION:http://salsa.faurax.fr/index.php/evt/20260426-42358
END:VEVENT
END:VCALENDAR