BEGIN:VCALENDAR
VERSION:2.0
PRODID:-//Olivier FAURAX/NONSGML Faurax Calendar System V1.0//EN
X-WR-CALNAME:Liste Salsa d'Olivier (83)
BEGIN:VTIMEZONE
TZID:Europe/Paris
X-LIC-LOCATION:Europe/Paris
BEGIN:DAYLIGHT
TZOFFSETFROM:+0100
TZOFFSETTO:+0200
TZNAME:CEST
DTSTART:19700329T020000
RRULE:FREQ=YEARLY;INTERVAL=1;BYDAY=-1SU;BYMONTH=3
END:DAYLIGHT
BEGIN:STANDARD
TZOFFSETFROM:+0200
TZOFFSETTO:+0100
TZNAME:CET
DTSTART:19701025T030000
RRULE:FREQ=YEARLY;INTERVAL=1;BYDAY=-1SU;BYMONTH=10
END:STANDARD
END:VTIMEZONE
BEGIN:VEVENT
DTSTAMP:20170808T112611Z
UID:evt14262@salsa.faurax.fr
DTSTART;VALUE=DATE:20170101
DTEND;TZID=Europe/Paris:20170101T235959
SUMMARY:Test ofaurax
LOCATION:1499 Chemin du Grand Rayol 83470 Saint-Maximin-la-Sainte-Baume
URL:http://salsa.faurax.fr/index.php/evt/20170101-14262
DESCRIPTION:http://salsa.faurax.fr/index.php/evt/20170101-14262
END:VEVENT
BEGIN:VEVENT
DTSTAMP:20250918T183411Z
UID:evt42016@salsa.faurax.fr
DTSTART;TZID=Europe/Paris:20170101T140000
DTEND;TZID=Europe/Paris:20170101T235959
SUMMARY:Sbk ibis styles la Seyne 
LOCATION:80 Chemin de la Capellane 83500 La Seyne-sur-Mer
URL:http://salsa.faurax.fr/index.php/evt/20170101-42016
DESCRIPTION:http://salsa.faurax.fr/index.php/evt/20170101-42016
END:VEVENT
BEGIN:VEVENT
DTSTAMP:20241028T223722Z
UID:evt37913@salsa.faurax.fr
DTSTART;TZID=Europe/Paris:20170101T143000
DTEND;TZID=Europe/Paris:20170101T235959
SUMMARY:Stage de Bachata moderna
LOCATION:89 rue République\, 83140 Six-Fours
URL:http://salsa.faurax.fr/index.php/evt/20170101-37913
DESCRIPTION:http://salsa.faurax.fr/index.php/evt/20170101-37913
END:VEVENT
BEGIN:VEVENT
DTSTAMP:20221219T174801Z
UID:evt30464@salsa.faurax.fr
DTSTART;TZID=Europe/Paris:20170101T150000
DTEND;TZID=Europe/Paris:20170101T235959
SUMMARY:Bal Latino aux Sablettes
LOCATION:Les Sablettes Plage 83500 La Seyne-sur-Mer
URL:http://salsa.faurax.fr/index.php/evt/20170101-30464
DESCRIPTION:http://salsa.faurax.fr/index.php/evt/20170101-30464
END:VEVENT
BEGIN:VEVENT
DTSTAMP:20210814T131641Z
UID:evt26037@salsa.faurax.fr
DTSTART;TZID=Europe/Paris:20170101T170000
DTEND;TZID=Europe/Paris:20170101T235959
SUMMARY:Bal Latino au beausset
LOCATION:Place Jean jaures 83330 le beausset
URL:http://salsa.faurax.fr/index.php/evt/20170101-26037
DESCRIPTION:http://salsa.faurax.fr/index.php/evt/20170101-26037
END:VEVENT
BEGIN:VEVENT
DTSTAMP:20260306T091943Z
UID:evt43198@salsa.faurax.fr
DTSTART;TZID=Europe/Paris:20170101T180000
DTEND;TZID=Europe/Paris:20170101T235959
SUMMARY:SBK Social danse du Palma
LOCATION:180 Rue Philémon Laugier 83400 Hyères
URL:http://salsa.faurax.fr/index.php/evt/20170101-43198
DESCRIPTION:http://salsa.faurax.fr/index.php/evt/20170101-43198
END:VEVENT
BEGIN:VEVENT
DTSTAMP:20250926T151606Z
UID:evt41990@salsa.faurax.fr
DTSTART;TZID=Europe/Paris:20170101T180000
DTEND;TZID=Europe/Paris:20170101T235959
SUMMARY:SBK Noche au Castel de Fies !
LOCATION:59 montée Bellavista\, 83210 Solliès-Pont
URL:http://salsa.faurax.fr/index.php/evt/20170101-41990
DESCRIPTION:http://salsa.faurax.fr/index.php/evt/20170101-41990
END:VEVENT
BEGIN:VEVENT
DTSTAMP:20220801T123237Z
UID:evt29211@salsa.faurax.fr
DTSTART;TZID=Europe/Paris:20170101T183000
DTEND;TZID=Europe/Paris:20170101T235959
SUMMARY:Les Jeudis Infiny
LOCATION:Avenue Georges Pompidou 83160 La Valette-du-Var
URL:http://salsa.faurax.fr/index.php/evt/20170101-29211
DESCRIPTION:http://salsa.faurax.fr/index.php/evt/20170101-29211
END:VEVENT
BEGIN:VEVENT
DTSTAMP:20221219T112603Z
UID:evt30525@salsa.faurax.fr
DTSTART;TZID=Europe/Paris:20170101T190000
DTEND;TZID=Europe/Paris:20170101T235959
SUMMARY:1ere SBK à L'italienne
LOCATION:18 av des frères Lumière 83160 la Valette 
URL:http://salsa.faurax.fr/index.php/evt/20170101-30525
DESCRIPTION:http://salsa.faurax.fr/index.php/evt/20170101-30525
END:VEVENT
BEGIN:VEVENT
DTSTAMP:20260112T164628Z
UID:evt43558@salsa.faurax.fr
DTSTART;TZID=Europe/Paris:20170101T190000
DTEND;TZID=Europe/Paris:20170101T235959
SUMMARY:Cours de Bachata au Baila Fit Studio !
LOCATION:89 rue République\, 83140 Six-Fours-les-Plages
URL:http://salsa.faurax.fr/index.php/evt/20170101-43558
DESCRIPTION:http://salsa.faurax.fr/index.php/evt/20170101-43558
END:VEVENT
BEGIN:VEVENT
DTSTAMP:20241028T174722Z
UID:evt37908@salsa.faurax.fr
DTSTART;TZID=Europe/Paris:20170101T191500
DTEND;TZID=Europe/Paris:20170101T235959
SUMMARY:Stage de Salsa portoricaine
LOCATION:89 rue République\, 83140 Six-Fours
URL:http://salsa.faurax.fr/index.php/evt/20170101-37908
DESCRIPTION:http://salsa.faurax.fr/index.php/evt/20170101-37908
END:VEVENT
BEGIN:VEVENT
DTSTAMP:20260413T010100Z
UID:evt44943@salsa.faurax.fr
DTSTART;TZID=Europe/Paris:20170101T193000
DTEND;TZID=Europe/Paris:20170101T235959
SUMMARY:⭐ Latica Conviviale | Morgan Castagné | 2 salles 2 ambiances 
LOCATION:229 Via Nova 83600 Fréjus
URL:http://salsa.faurax.fr/index.php/evt/20170101-44943
DESCRIPTION:http://salsa.faurax.fr/index.php/evt/20170101-44943
END:VEVENT
BEGIN:VEVENT
DTSTAMP:20210705T231053Z
UID:evt26209@salsa.faurax.fr
DTSTART;TZID=Europe/Paris:20170101T200000
DTEND;TZID=Europe/Paris:20170101T235959
SUMMARY:Soirée SBK à la Plage
LOCATION:Plage du Mourillon - Anse Mistral 83000 Toulon
URL:http://salsa.faurax.fr/index.php/evt/20170101-26209
DESCRIPTION:http://salsa.faurax.fr/index.php/evt/20170101-26209
END:VEVENT
BEGIN:VEVENT
DTSTAMP:20260330T222150Z
UID:evt44705@salsa.faurax.fr
DTSTART;TZID=Europe/Paris:20170101T200000
DTEND;TZID=Europe/Paris:20170101T235959
SUMMARY:SBK Social danse du Palma
LOCATION:180 Rue Philémon Laugier 83400 Hyères
URL:http://salsa.faurax.fr/index.php/evt/20170101-44705
DESCRIPTION:http://salsa.faurax.fr/index.php/evt/20170101-44705
END:VEVENT
BEGIN:VEVENT
DTSTAMP:20260314T183755Z
UID:evt44467@salsa.faurax.fr
DTSTART;TZID=Europe/Paris:20170101T203000
DTEND;TZID=Europe/Paris:20170101T235959
SUMMARY:Lundis kizomba bachata parties
LOCATION:19 Rue Claudette Brenguier 83260 La Crau
URL:http://salsa.faurax.fr/index.php/evt/20170101-44467
DESCRIPTION:http://salsa.faurax.fr/index.php/evt/20170101-44467
END:VEVENT
BEGIN:VEVENT
DTSTAMP:20231205T165839Z
UID:evt31578@salsa.faurax.fr
DTSTART;TZID=Europe/Paris:20170101T204500
DTEND;TZID=Europe/Paris:20170101T235959
SUMMARY:Les jeudis eden sbk
LOCATION:933 Promenade Général Charles de Gaulle 83140 Six-Fours-les-Plages
URL:http://salsa.faurax.fr/index.php/evt/20170101-31578
DESCRIPTION:http://salsa.faurax.fr/index.php/evt/20170101-31578
END:VEVENT
BEGIN:VEVENT
DTSTAMP:20260313T101321Z
UID:evt44450@salsa.faurax.fr
DTSTART;TZID=Europe/Paris:20170101T210000
DTEND;TZID=Europe/Paris:20170101T235959
SUMMARY:Soirée SBK au Brew Pub avec Salsa Conga
LOCATION:494 Rue Nicéphore Niépce 83400 Hyères
URL:http://salsa.faurax.fr/index.php/evt/20170101-44450
DESCRIPTION:http://salsa.faurax.fr/index.php/evt/20170101-44450
END:VEVENT
BEGIN:VEVENT
DTSTAMP:20180313T095233Z
UID:evt16640@salsa.faurax.fr
DTSTART;TZID=Europe/Paris:20170101T210000
DTEND;TZID=Europe/Paris:20170101T235959
SUMMARY:sweet Thursday kizomba au satyn's
LOCATION:Promenade Henry Fabre -Plage du Mourillon 83000 Toulon
URL:http://salsa.faurax.fr/index.php/evt/20170101-16640
DESCRIPTION:http://salsa.faurax.fr/index.php/evt/20170101-16640
END:VEVENT
BEGIN:VEVENT
DTSTAMP:20250902T122006Z
UID:evt41716@salsa.faurax.fr
DTSTART;TZID=Europe/Paris:20170101T213000
DTEND;TZID=Europe/Paris:20170101T235959
SUMMARY:Soirée SBK à la Casarita
LOCATION:3 Z.A. Chemin d'Aix\, 83470 Saint-Maximin-la-Sainte-Baume
URL:http://salsa.faurax.fr/index.php/evt/20170101-41716
DESCRIPTION:http://salsa.faurax.fr/index.php/evt/20170101-41716
END:VEVENT
BEGIN:VEVENT
DTSTAMP:20150810T173425Z
UID:evt37@salsa.faurax.fr
DTSTART;TZID=Europe/Paris:20170101T220000
DTEND;TZID=Europe/Paris:20170101T235959
SUMMARY:Eden Bar
LOCATION:plage de bonne grâce\, 83140 Six-Fours-les-Plages
URL:http://salsa.faurax.fr/index.php/evt/20170101-37
DESCRIPTION:http://salsa.faurax.fr/index.php/evt/20170101-37
END:VEVENT
BEGIN:VEVENT
DTSTAMP:20260416T173204Z
UID:evt45013@salsa.faurax.fr
DTSTART;TZID=Europe/Paris:20260422T200000
DTEND;TZID=Europe/Paris:20260422T235959
SUMMARY:Noche Latina des pins
LOCATION:4 Plage du Mourillon 83000 Toulon
URL:http://salsa.faurax.fr/index.php/evt/20260422-45013
DESCRIPTION:http://salsa.faurax.fr/index.php/evt/20260422-45013
END:VEVENT
BEGIN:VEVENT
DTSTAMP:20260416T173516Z
UID:evt45014@salsa.faurax.fr
DTSTART;TZID=Europe/Paris:20260422T200000
DTEND;TZID=Europe/Paris:20260422T235959
SUMMARY:Toulon Mourillon Noche Latina des pins
LOCATION:83390 Cuers
URL:http://salsa.faurax.fr/index.php/evt/20260422-45014
DESCRIPTION:http://salsa.faurax.fr/index.php/evt/20260422-45014
END:VEVENT
BEGIN:VEVENT
DTSTAMP:20260313T101536Z
UID:evt44451@salsa.faurax.fr
DTSTART;TZID=Europe/Paris:20260422T210000
DTEND;TZID=Europe/Paris:20260422T235959
SUMMARY:Soirée SBK au Brew Pub
LOCATION:494 Rue Nicéphore Niépce 83400 Hyères
URL:http://salsa.faurax.fr/index.php/evt/20260422-44451
DESCRIPTION:http://salsa.faurax.fr/index.php/evt/20260422-44451
END:VEVENT
BEGIN:VEVENT
DTSTAMP:20260227T170311Z
UID:evt44213@salsa.faurax.fr
DTSTART;TZID=Europe/Paris:20260423T200000
DTEND;TZID=Europe/Paris:20260423T235959
SUMMARY: Bailar les jeudis SBK 
LOCATION:640 Route Départementale 97 83210 La Farlède
URL:http://salsa.faurax.fr/index.php/evt/20260423-44213
DESCRIPTION:http://salsa.faurax.fr/index.php/evt/20260423-44213
END:VEVENT
BEGIN:VEVENT
DTSTAMP:20260113T110454Z
UID:evt43569@salsa.faurax.fr
DTSTART;TZID=Europe/Paris:20260423T210000
DTEND;TZID=Europe/Paris:20260423T235959
SUMMARY:Le Jardin SBK 
LOCATION:25 boulevard d Estienne d orves \,adonis hôtel \,83110 Sanary sur mer 
URL:http://salsa.faurax.fr/index.php/evt/20260423-43569
DESCRIPTION:http://salsa.faurax.fr/index.php/evt/20260423-43569
END:VEVENT
BEGIN:VEVENT
DTSTAMP:20260403T084658Z
UID:evt44754@salsa.faurax.fr
DTSTART;TZID=Europe/Paris:20260424T190000
DTEND;TZID=Europe/Paris:20260424T235959
SUMMARY:Apéro dansant salsa tropic Mada 
LOCATION:Avenue Jean moulin 83170 Brignoles 
URL:http://salsa.faurax.fr/index.php/evt/20260424-44754
DESCRIPTION:http://salsa.faurax.fr/index.php/evt/20260424-44754
END:VEVENT
BEGIN:VEVENT
DTSTAMP:20260323T164924Z
UID:evt44600@salsa.faurax.fr
DTSTART;TZID=Europe/Paris:20260424T190000
DTEND;TZID=Europe/Paris:20260424T235959
SUMMARY:Stage de Bachatango
LOCATION:1945 Route Nationale 8 83190 Ollioules
URL:http://salsa.faurax.fr/index.php/evt/20260424-44600
DESCRIPTION:http://salsa.faurax.fr/index.php/evt/20260424-44600
END:VEVENT
BEGIN:VEVENT
DTSTAMP:20260413T091934Z
UID:evt44946@salsa.faurax.fr
DTSTART;TZID=Europe/Paris:20260424T200000
DTEND;TZID=Europe/Paris:20260424T235959
SUMMARY:⭐Latica Conviviale SB/K | Morgan Castagné Élodie Catena | 2 s
 alles 2 ambiances 
LOCATION:229 Via Nova 83600 Fréjus
URL:http://salsa.faurax.fr/index.php/evt/20260424-44946
DESCRIPTION:http://salsa.faurax.fr/index.php/evt/20260424-44946
END:VEVENT
BEGIN:VEVENT
DTSTAMP:20260311T234550Z
UID:evt44433@salsa.faurax.fr
DTSTART;TZID=Europe/Paris:20260425T140000
DTEND;TZID=Europe/Paris:20260425T235959
SUMMARY:Stage de danse Kizomba Traditionnelle by Tropi k'Danse
LOCATION:Salle Les Maristes 83500 La Seyne sur mer
URL:http://salsa.faurax.fr/index.php/evt/20260425-44433
DESCRIPTION:http://salsa.faurax.fr/index.php/evt/20260425-44433
END:VEVENT
BEGIN:VEVENT
DTSTAMP:20260413T150721Z
UID:evt44955@salsa.faurax.fr
DTSTART;TZID=Europe/Paris:20260425T210000
DTEND;TZID=Europe/Paris:20260425T235959
SUMMARY:Kiz'Alquimia
LOCATION:19 Rue Claudette Brenguier 83260 La Crau
URL:http://salsa.faurax.fr/index.php/evt/20260425-44955
DESCRIPTION:http://salsa.faurax.fr/index.php/evt/20260425-44955
END:VEVENT
BEGIN:VEVENT
DTSTAMP:20260418T000756Z
UID:evt45034@salsa.faurax.fr
DTSTART;TZID=Europe/Paris:20260426T143000
DTEND;TZID=Europe/Paris:20260426T235959
SUMMARY:Stage 100% Bachata !
LOCATION:89 rue République\, 83140 Six-Fours-les-Plages 
URL:http://salsa.faurax.fr/index.php/evt/20260426-45034
DESCRIPTION:http://salsa.faurax.fr/index.php/evt/20260426-45034
END:VEVENT
BEGIN:VEVENT
DTSTAMP:20251017T180934Z
UID:evt41805@salsa.faurax.fr
DTSTART;TZID=Europe/Paris:20260426T190000
DTEND;TZID=Europe/Paris:20260426T235959
SUMMARY:bksr
LOCATION:898 Route du Beausset 83150 Bandol
URL:http://salsa.faurax.fr/index.php/evt/20260426-41805
DESCRIPTION:http://salsa.faurax.fr/index.php/evt/20260426-41805
END:VEVENT
BEGIN:VEVENT
DTSTAMP:20250910T001006Z
UID:evt41832@salsa.faurax.fr
DTSTART;TZID=Europe/Paris:20260427T193000
DTEND;TZID=Europe/Paris:20260427T235959
SUMMARY:Cours de Salsa Con Timba
LOCATION:Avenue des Cinq Ponts 83470 Saint-Maximin-la-Sainte-Baume
URL:http://salsa.faurax.fr/index.php/evt/20260427-41832
DESCRIPTION:http://salsa.faurax.fr/index.php/evt/20260427-41832
END:VEVENT
BEGIN:VEVENT
DTSTAMP:20260403T191008Z
UID:evt44771@salsa.faurax.fr
DTSTART;TZID=Europe/Paris:20260427T200000
DTEND;TZID=Europe/Paris:20260427T235959
SUMMARY:Lundis Kizomba - Bachata parties
LOCATION:19 Rue Claudette Brenguier 83260 La Crau
URL:http://salsa.faurax.fr/index.php/evt/20260427-44771
DESCRIPTION:http://salsa.faurax.fr/index.php/evt/20260427-44771
END:VEVENT
BEGIN:VEVENT
DTSTAMP:20250910T002430Z
UID:evt41833@salsa.faurax.fr
DTSTART;TZID=Europe/Paris:20260427T213000
DTEND;TZID=Europe/Paris:20260427T235959
SUMMARY:After classes de Salsa 
LOCATION:Avenue des Cinq Ponts 83470 Saint-Maximin-la-Sainte-Baume
URL:http://salsa.faurax.fr/index.php/evt/20260427-41833
DESCRIPTION:http://salsa.faurax.fr/index.php/evt/20260427-41833
END:VEVENT
BEGIN:VEVENT
DTSTAMP:20260330T165801Z
UID:evt44698@salsa.faurax.fr
DTSTART;TZID=Europe/Paris:20260428T190000
DTEND;TZID=Europe/Paris:20260428T235959
SUMMARY:Cours de Bachata au Baila Fit !
LOCATION:89 rue République\, 83140 Six-Fours-les-Plages 
URL:http://salsa.faurax.fr/index.php/evt/20260428-44698
DESCRIPTION:http://salsa.faurax.fr/index.php/evt/20260428-44698
END:VEVENT
BEGIN:VEVENT
DTSTAMP:20260422T095244Z
UID:evt45094@salsa.faurax.fr
DTSTART;TZID=Europe/Paris:20260428T200000
DTEND;TZID=Europe/Paris:20260428T235959
SUMMARY:⭐ Bôbar Sbk Entrée Gratuite | Dj Marco 
LOCATION:975 Chemin des Plantades 83130 La Garde
URL:http://salsa.faurax.fr/index.php/evt/20260428-45094
DESCRIPTION:http://salsa.faurax.fr/index.php/evt/20260428-45094
END:VEVENT
BEGIN:VEVENT
DTSTAMP:20260415T192839Z
UID:evt44987@salsa.faurax.fr
DTSTART;TZID=Europe/Paris:20260501T190000
DTEND;TZID=Europe/Paris:20260501T235959
SUMMARY:Soirée Sbkr
LOCATION:Le Capitole chemin du Floréal 83500 La Seyne sur mer 
URL:http://salsa.faurax.fr/index.php/evt/20260501-44987
DESCRIPTION:http://salsa.faurax.fr/index.php/evt/20260501-44987
END:VEVENT
BEGIN:VEVENT
DTSTAMP:20260416T143045Z
UID:evt44997@salsa.faurax.fr
DTSTART;TZID=Europe/Paris:20260501T200000
DTEND;TZID=Europe/Paris:20260501T235959
SUMMARY:SBK Envidia
LOCATION:125 Rue Marcelin Berthelot 83210 La Garde
URL:http://salsa.faurax.fr/index.php/evt/20260501-44997
DESCRIPTION:http://salsa.faurax.fr/index.php/evt/20260501-44997
END:VEVENT
BEGIN:VEVENT
DTSTAMP:20260416T140609Z
UID:evt44996@salsa.faurax.fr
DTSTART;TZID=Europe/Paris:20260502T160000
DTEND;TZID=Europe/Paris:20260502T235959
SUMMARY:Première sociale de salsa à Toulon centre
LOCATION:35 Rue Alphonse Daudet\, 83000 Toulon
URL:http://salsa.faurax.fr/index.php/evt/20260502-44996
DESCRIPTION:http://salsa.faurax.fr/index.php/evt/20260502-44996
END:VEVENT
BEGIN:VEVENT
DTSTAMP:20260411T160440Z
UID:evt44927@salsa.faurax.fr
DTSTART;TZID=Europe/Paris:20260502T200000
DTEND;TZID=Europe/Paris:20260502T235959
SUMMARY:La Casa SBK - Mensuelle - Samedi 2 Mai
LOCATION:Avenue des 5 ponts ZA chemin d'Aix\, 83470 Saint-Maximin-la-Sainte-Baume
URL:http://salsa.faurax.fr/index.php/evt/20260502-44927
DESCRIPTION:http://salsa.faurax.fr/index.php/evt/20260502-44927
END:VEVENT
BEGIN:VEVENT
DTSTAMP:20260407T211956Z
UID:evt44831@salsa.faurax.fr
DTSTART;TZID=Europe/Paris:20260503T180000
DTEND;TZID=Europe/Paris:20260503T235959
SUMMARY:Ritmo Domingo Place de l'Equerre
LOCATION:Place de l'Equerre 83000 Toulon
URL:http://salsa.faurax.fr/index.php/evt/20260503-44831
DESCRIPTION:http://salsa.faurax.fr/index.php/evt/20260503-44831
END:VEVENT
BEGIN:VEVENT
DTSTAMP:20260330T180812Z
UID:evt44700@salsa.faurax.fr
DTSTART;TZID=Europe/Paris:20260506T200000
DTEND;TZID=Europe/Paris:20260506T235959
SUMMARY:⭐ Dernière Technopole Sbk | Lieu d'exception 
LOCATION:363 Route de la Seyne 83190 Ollioules
URL:http://salsa.faurax.fr/index.php/evt/20260506-44700
DESCRIPTION:http://salsa.faurax.fr/index.php/evt/20260506-44700
END:VEVENT
BEGIN:VEVENT
DTSTAMP:20260420T115127Z
UID:evt45055@salsa.faurax.fr
DTSTART;TZID=Europe/Paris:20260508T200000
DTEND;TZID=Europe/Paris:20260508T235959
SUMMARY:Noche SBK by Latin'Alma
LOCATION:Rue Marcelin Berthelot 83130 La Garde
URL:http://salsa.faurax.fr/index.php/evt/20260508-45055
DESCRIPTION:http://salsa.faurax.fr/index.php/evt/20260508-45055
END:VEVENT
BEGIN:VEVENT
DTSTAMP:20260214T144124Z
UID:evt44022@salsa.faurax.fr
DTSTART;TZID=Europe/Paris:20260509T200000
DTEND;TZID=Europe/Paris:20260509T235959
SUMMARY:Noche Cubana – Yemaya en Live
LOCATION:Boulevard de Coua de Can 83550 Vidauban
URL:http://salsa.faurax.fr/index.php/evt/20260509-44022
DESCRIPTION:http://salsa.faurax.fr/index.php/evt/20260509-44022
END:VEVENT
BEGIN:VEVENT
DTSTAMP:20260421T095550Z
UID:evt45073@salsa.faurax.fr
DTSTART;TZID=Europe/Paris:20260510T160000
DTEND;TZID=Europe/Paris:20260510T235959
SUMMARY:Sociale de salsa à Toulon - deuxième session
LOCATION:Place Monsenergue\, 83000 Toulon
URL:http://salsa.faurax.fr/index.php/evt/20260510-45073
DESCRIPTION:http://salsa.faurax.fr/index.php/evt/20260510-45073
END:VEVENT
BEGIN:VEVENT
DTSTAMP:20260412T201151Z
UID:evt44939@salsa.faurax.fr
DTSTART;TZID=Europe/Paris:20260513T200000
DTEND;TZID=Europe/Paris:20260513T235959
SUMMARY:Full Sbk + Kompa Expérience à l'Italienne Club La Valette
LOCATION:18 Avenue des Frères Lumière 83160 La Valette-du-Var
URL:http://salsa.faurax.fr/index.php/evt/20260513-44939
DESCRIPTION:http://salsa.faurax.fr/index.php/evt/20260513-44939
END:VEVENT
BEGIN:VEVENT
DTSTAMP:20260407T212300Z
UID:evt44832@salsa.faurax.fr
DTSTART;TZID=Europe/Paris:20260523T140000
DTEND;TZID=Europe/Paris:20260523T235959
SUMMARY:Fête de fin d'année Salsa Tumba Timba
LOCATION:3058 Route des Sources 83330 Le Castellet
URL:http://salsa.faurax.fr/index.php/evt/20260523-44832
DESCRIPTION:http://salsa.faurax.fr/index.php/evt/20260523-44832
END:VEVENT
BEGIN:VEVENT
DTSTAMP:20260412T093325Z
UID:evt44931@salsa.faurax.fr
DTSTART;TZID=Europe/Paris:20260530T200000
DTEND;TZID=Europe/Paris:20260530T235959
SUMMARY:La Criola SBK 8 / Kompa Versus SBK / Repas Réunionnais /3 Espace
 s de Danse
LOCATION:LE CAPITOLE Chemin du Floréal 83500 La Seyne-sur-Mer
URL:http://salsa.faurax.fr/index.php/evt/20260530-44931
DESCRIPTION:http://salsa.faurax.fr/index.php/evt/20260530-44931
END:VEVENT
BEGIN:VEVENT
DTSTAMP:20260311T174317Z
UID:evt44424@salsa.faurax.fr
DTSTART;TZID=Europe/Paris:20260605T170000
DTEND;TZID=Europe/Paris:20260605T235959
SUMMARY:Stage Bachata & Salsa – Week-end danse en Ardèche (≈2h15 de 
 Toulon)
LOCATION:83000 Toulon
URL:http://salsa.faurax.fr/index.php/evt/20260605-44424
DESCRIPTION:http://salsa.faurax.fr/index.php/evt/20260605-44424
END:VEVENT
BEGIN:VEVENT
DTSTAMP:20251110T140419Z
UID:evt42776@salsa.faurax.fr
DTSTART;TZID=Europe/Paris:20261009T150000
DTEND;TZID=Europe/Paris:20261009T235959
SUMMARY:Providance Latino Kizomba Festival 2026
LOCATION:395 Boulevard Plage de l'Argentière 83250 La Londe-les-Maures
URL:http://salsa.faurax.fr/index.php/evt/20261009-42776
DESCRIPTION:http://salsa.faurax.fr/index.php/evt/20261009-42776
END:VEVENT
END:VCALENDAR