BEGIN:VCALENDAR
VERSION:2.0
PRODID:-//Olivier FAURAX/NONSGML Faurax Calendar System V1.0//EN
BEGIN:VTIMEZONE
TZID:Europe/Paris
X-LIC-LOCATION:Europe/Paris
BEGIN:DAYLIGHT
TZOFFSETFROM:+0100
TZOFFSETTO:+0200
TZNAME:CEST
DTSTART:19700329T020000
RRULE:FREQ=YEARLY;INTERVAL=1;BYDAY=-1SU;BYMONTH=3
END:DAYLIGHT
BEGIN:STANDARD
TZOFFSETFROM:+0200
TZOFFSETTO:+0100
TZNAME:CET
DTSTART:19701025T030000
RRULE:FREQ=YEARLY;INTERVAL=1;BYDAY=-1SU;BYMONTH=10
END:STANDARD
END:VTIMEZONE
BEGIN:VEVENT
DTSTAMP:20260305T233131Z
UID:evt44333@salsa.faurax.fr
DTSTART;TZID=Europe/Paris:20260424T100000
DTEND;TZID=Europe/Paris:20260424T235959
SUMMARY:❤️‍ Croisière Costa Spéciale Latino 5 jours/4 nuits du 02
  au 06 Mai ❤️‍
LOCATION:4 rue des Soleillades\, 34230 Vendémian
URL:http://salsa.faurax.fr/index.php/evt/20260424-44333
DESCRIPTION:http://salsa.faurax.fr/index.php/evt/20260424-44333
END:VEVENT
END:VCALENDAR