BEGIN:VCALENDAR
VERSION:2.0
PRODID:-//Olivier FAURAX/NONSGML Faurax Calendar System V1.0//EN
BEGIN:VTIMEZONE
TZID:Europe/Paris
X-LIC-LOCATION:Europe/Paris
BEGIN:DAYLIGHT
TZOFFSETFROM:+0100
TZOFFSETTO:+0200
TZNAME:CEST
DTSTART:19700329T020000
RRULE:FREQ=YEARLY;INTERVAL=1;BYDAY=-1SU;BYMONTH=3
END:DAYLIGHT
BEGIN:STANDARD
TZOFFSETFROM:+0200
TZOFFSETTO:+0100
TZNAME:CET
DTSTART:19701025T030000
RRULE:FREQ=YEARLY;INTERVAL=1;BYDAY=-1SU;BYMONTH=10
END:STANDARD
END:VTIMEZONE
BEGIN:VEVENT
DTSTAMP:20260420T142856Z
UID:evt45064@salsa.faurax.fr
DTSTART;TZID=Europe/Paris:20260423T193000
DTEND;TZID=Europe/Paris:20260423T235959
SUMMARY:La Tremenda/ Tom Nka & Jimi Jacks / Jeudi 23 Avril  / Jo & Joe Pa
 ris Nation
LOCATION:61 Rue de Buzenval 75020 Paris
URL:http://salsa.faurax.fr/index.php/evt/20260423-45064
DESCRIPTION:http://salsa.faurax.fr/index.php/evt/20260423-45064
END:VEVENT
END:VCALENDAR