BEGIN:VCALENDAR
VERSION:2.0
PRODID:-//Olivier FAURAX/NONSGML Faurax Calendar System V1.0//EN
BEGIN:VTIMEZONE
TZID:Europe/Paris
X-LIC-LOCATION:Europe/Paris
BEGIN:DAYLIGHT
TZOFFSETFROM:+0100
TZOFFSETTO:+0200
TZNAME:CEST
DTSTART:19700329T020000
RRULE:FREQ=YEARLY;INTERVAL=1;BYDAY=-1SU;BYMONTH=3
END:DAYLIGHT
BEGIN:STANDARD
TZOFFSETFROM:+0200
TZOFFSETTO:+0100
TZNAME:CET
DTSTART:19701025T030000
RRULE:FREQ=YEARLY;INTERVAL=1;BYDAY=-1SU;BYMONTH=10
END:STANDARD
END:VTIMEZONE
BEGIN:VEVENT
DTSTAMP:20260423T144311Z
UID:evt45114@salsa.faurax.fr
DTSTART;TZID=Europe/Paris:20260515T190000
DTEND;TZID=Europe/Paris:20260515T235959
SUMMARY:Apéro dansant Salsa Tropic Mada 
LOCATION:561 avenue des platanes 83660 carnoules
URL:http://salsa.faurax.fr/index.php/evt/20260515-45114
DESCRIPTION:http://salsa.faurax.fr/index.php/evt/20260515-45114
END:VEVENT
END:VCALENDAR