BEGIN:VCALENDAR
VERSION:2.0
PRODID:-//Olivier FAURAX/NONSGML Faurax Calendar System V1.0//EN
BEGIN:VTIMEZONE
TZID:Europe/Paris
X-LIC-LOCATION:Europe/Paris
BEGIN:DAYLIGHT
TZOFFSETFROM:+0100
TZOFFSETTO:+0200
TZNAME:CEST
DTSTART:19700329T020000
RRULE:FREQ=YEARLY;INTERVAL=1;BYDAY=-1SU;BYMONTH=3
END:DAYLIGHT
BEGIN:STANDARD
TZOFFSETFROM:+0200
TZOFFSETTO:+0100
TZNAME:CET
DTSTART:19701025T030000
RRULE:FREQ=YEARLY;INTERVAL=1;BYDAY=-1SU;BYMONTH=10
END:STANDARD
END:VTIMEZONE
BEGIN:VEVENT
DTSTAMP:20260423T213312Z
UID:evt45120@salsa.faurax.fr
DTSTART;TZID=Europe/Paris:20260516T190000
DTEND;TZID=Europe/Paris:20260516T235959
SUMMARY:Soirée cuba España avec Miguel de cuba et Christine Serrano 
LOCATION:Chemin de la Cigale 30900 Nîmes
URL:http://salsa.faurax.fr/index.php/evt/20260516-45120
DESCRIPTION:http://salsa.faurax.fr/index.php/evt/20260516-45120
END:VEVENT
END:VCALENDAR